BEGIN:VCALENDAR
PRODID:-//sitepark/sitekit//3.0/EN
VERSION:2.0
CALSCALE:GREGORIAN
BEGIN:VEVENT
UID:44767-0
DTSTAMP:20260423T105420Z
SUMMARY:Iseborjer Kinno
DESCRIPTION:
URL:http://gedenkbuch.neu-isenburg.de/microsite/hugenottenhalle/veranstaltu
 ngskalender/veranstaltungen/hauptkalender/iseborjer-kinno-adios-buenos-air
 es-abendvorstellung
DTSTART:20260324T183000Z
DTEND:20260324T225900Z
LOCATION:Beethovenstraße 89 a\, 63263 Neu-Isenburg
CATEGORIES:Neu-Isenburg,Kino & Film
END:VEVENT
END:VCALENDAR
