BEGIN:VCALENDAR
PRODID:-//sitepark/sitekit//3.0/EN
VERSION:2.0
CALSCALE:GREGORIAN
BEGIN:VEVENT
UID:44991-0
DTSTAMP:20260423T110639Z
SUMMARY:Iseborjer Kinno
DESCRIPTION:
URL:http://gedenkbuch.neu-isenburg.de/microsite/hugenottenhalle/veranstaltu
 ngskalender/veranstaltungen/hauptkalender/iseborjer-kinno-zukunft-zugewand
 t
DTSTART:20260428T143000Z
DTEND:20260428T215900Z
LOCATION:Beethovenstraße 89 a\, 63263 Neu-Isenburg
CATEGORIES:Neu-Isenburg,Kino & Film
END:VEVENT
END:VCALENDAR
