BEGIN:VCALENDAR
PRODID:-//sitepark/sitekit//3.0/EN
VERSION:2.0
CALSCALE:GREGORIAN
BEGIN:VEVENT
UID:45621-0
DTSTAMP:20260423T105551Z
SUMMARY:Isenborjer Kinno
DESCRIPTION:
URL:http://gedenkbuch.neu-isenburg.de/microsite/hugenottenhalle/veranstaltu
 ngskalender/veranstaltungen/hauptkalender/isenborjer-kinno-cadillac-record
 s
DTSTART:20260710T150000Z
DTEND:20260710T215900Z
LOCATION:Beethovenstraße 89 a\, 63263 Neu-Isenburg
CATEGORIES:Kino & Film
END:VEVENT
END:VCALENDAR
