BEGIN:VCALENDAR
PRODID:-//sitepark/sitekit//3.0/EN
VERSION:2.0
CALSCALE:GREGORIAN
BEGIN:VEVENT
UID:44522-0
DTSTAMP:20260423T110609Z
SUMMARY:Maite Itoiz & John Kelly
DESCRIPTION:
URL:http://gedenkbuch.neu-isenburg.de/microsite/hugenottenhalle/veranstaltu
 ngskalender/veranstaltungen/hauptkalender/maite-itoiz-john-kelly
DTSTART:20261013T180000Z
DTEND:20261013T215900Z
LOCATION:Frankfurter Straße 152\, 63263 Neu-Isenburg
CATEGORIES:Neu-Isenburg,Musik
END:VEVENT
END:VCALENDAR
